BEGIN:VCALENDAR
VERSION:2.0
PRODID:-//www.insightmcc.org//NONSGML kigkonsult.se iCalcreator 2.30.10//
CALSCALE:GREGORIAN
METHOD:PUBLISH
UID:73f58c19-3641-475f-aead-ec166c7a4b2b
X-WR-CALDESC:
X-WR-RELCALID:c4c8587e465cd13d376977e86ffbc19b
X-WR-TIMEZONE:America/New_York
BEGIN:VTIMEZONE
TZID:America/New_York
BEGIN:STANDARD
TZNAME:EST
DTSTART:20261101T020000
TZOFFSETFROM:-0400
TZOFFSETTO:-0500
RDATE:20271107T020000
END:STANDARD
BEGIN:DAYLIGHT
TZNAME:EDT
DTSTART:20260308T020000
TZOFFSETFROM:-0500
TZOFFSETTO:-0400
RDATE:20270314T020000
RDATE:20280312T020000
END:DAYLIGHT
END:VTIMEZONE
BEGIN:VEVENT
UID:16360887-6c5e-4bc6-a504-54bb2e1e6db5
DTSTAMP:20260421T174652Z
DESCRIPTION:
DTSTART;TZID=America/New_York:20261215T140000
DTEND;TZID=America/New_York:20261215T150000
LOCATION:White Springs Senior Living \, 349 Legion Drive\, Warrenton\, AL 2
 0186 US
SUMMARY:Warrenton Care Partner Support Group
END:VEVENT
END:VCALENDAR
