BEGIN:VCALENDAR
VERSION:2.0
PRODID:-//www.insightmcc.org//NONSGML kigkonsult.se iCalcreator 2.30.10//
CALSCALE:GREGORIAN
METHOD:PUBLISH
UID:27a862ce-8b03-4e3b-b2fd-b4f7b8113777
X-WR-CALDESC:This group is specifically designed for care partners whose lo
 ved one has received a diagnosis of frontotemporal degeneration. Get to kn
 ow other families who are in a similar situation\, while also learning pra
 ctical caregiving tips and sharing personal concerns and successes.\n\nThi
 s group meets virtually on the first Tuesday. All support groups are free 
 and open to the public. Please register and you'll receive Zoom informatio
 n to join!\n\n&nbsp\;\n<strong><a href='https://insightmemory.app.neoncrm.
 com/eventReg.jsp?event=1704&' target='_blank' class='button' rel='noreferr
 er noopener'>Sign Me Up!</a></strong>
X-WR-RELCALID:15c289ff34e4c0e040b6b8202caeffe7
X-WR-TIMEZONE:America/New_York
BEGIN:VTIMEZONE
TZID:America/New_York
BEGIN:STANDARD
TZNAME:EST
DTSTART:20261101T020000
TZOFFSETFROM:-0400
TZOFFSETTO:-0500
RDATE:20271107T020000
END:STANDARD
BEGIN:DAYLIGHT
TZNAME:EDT
DTSTART:20260308T020000
TZOFFSETFROM:-0500
TZOFFSETTO:-0400
RDATE:20270314T020000
RDATE:20280312T020000
END:DAYLIGHT
END:VTIMEZONE
BEGIN:VEVENT
UID:0f8a6882-d4f2-403a-81f0-5be3632318a2
DTSTAMP:20260421T190840Z
DESCRIPTION:This group is specifically designed for care partners whose lov
 ed one has received a diagnosis of frontotemporal degeneration. Get to kno
 w other families who are in a similar situation\, while also learning prac
 tical caregiving tips and sharing personal concerns and successes.\n\nThis
  group meets virtually on the first Tuesday. All support groups are free a
 nd open to the public. Please register and you'll receive Zoom information
  to join!\n\n&nbsp\;\n<strong><a href='https://insightmemory.app.neoncrm.c
 om/eventReg.jsp?event=1704&' target='_blank' class='button' rel='noreferre
 r noopener'>Sign Me Up!</a></strong>
DTSTART;TZID=America/New_York:20270105T190000
DTEND;TZID=America/New_York:20270105T203000
LOCATION:Virtual
SUMMARY:FTD Caregiver Support Group
END:VEVENT
END:VCALENDAR
