BEGIN:VCALENDAR
VERSION:2.0
PRODID:-//www.insightmcc.org//NONSGML kigkonsult.se iCalcreator 2.30.10//
CALSCALE:GREGORIAN
METHOD:PUBLISH
UID:b7786f4d-efde-437d-9ad4-65c4be73e769
X-WR-CALDESC:
X-WR-RELCALID:f3435bbcab64b1a865008cd15491c9a4
X-WR-TIMEZONE:America/New_York
BEGIN:VTIMEZONE
TZID:America/New_York
BEGIN:STANDARD
TZNAME:EST
DTSTART:20271107T020000
TZOFFSETFROM:-0400
TZOFFSETTO:-0500
RDATE:20281105T020000
END:STANDARD
BEGIN:DAYLIGHT
TZNAME:EDT
DTSTART:20280312T020000
TZOFFSETFROM:-0500
TZOFFSETTO:-0400
RDATE:20290311T020000
END:DAYLIGHT
END:VTIMEZONE
BEGIN:VEVENT
UID:70640547-930d-45bb-b291-e5c6404ee590
DTSTAMP:20260422T143859Z
DESCRIPTION:
DTSTART;TZID=America/New_York:20280321T140000
DTEND;TZID=America/New_York:20280321T150000
LOCATION:White Springs Senior Living \, 349 Legion Drive\, Warrenton\, AL 2
 0186 US
SUMMARY:Warrenton Care Partner Support Group
END:VEVENT
END:VCALENDAR
