BEGIN:VCALENDAR
VERSION:2.0
PRODID:-//www.insightmcc.org//NONSGML kigkonsult.se iCalcreator 2.30.10//
CALSCALE:GREGORIAN
METHOD:PUBLISH
UID:68374e31-90ae-4c64-b2fe-374ad7a6974d
X-WR-CALDESC:
X-WR-RELCALID:9644903060ef4b362ca0721c922b2460
X-WR-TIMEZONE:America/New_York
BEGIN:VTIMEZONE
TZID:America/New_York
BEGIN:STANDARD
TZNAME:EST
DTSTART:20271107T020000
TZOFFSETFROM:-0400
TZOFFSETTO:-0500
RDATE:20281105T020000
RDATE:20291104T020000
END:STANDARD
BEGIN:DAYLIGHT
TZNAME:EDT
DTSTART:20280312T020000
TZOFFSETFROM:-0500
TZOFFSETTO:-0400
RDATE:20290311T020000
END:DAYLIGHT
END:VTIMEZONE
BEGIN:VEVENT
UID:b20697e1-02d9-450c-9e49-44e29ee051a0
DTSTAMP:20260422T184157Z
DESCRIPTION:
DTSTART;TZID=America/New_York:20280620T140000
DTEND;TZID=America/New_York:20280620T150000
LOCATION:White Springs Senior Living \, 349 Legion Drive\, Warrenton\, AL 2
 0186 US
SUMMARY:Warrenton Care Partner Support Group
END:VEVENT
END:VCALENDAR
