BEGIN:VCALENDAR
VERSION:2.0
PRODID:-//www.insightmcc.org//NONSGML kigkonsult.se iCalcreator 2.30.10//
CALSCALE:GREGORIAN
METHOD:PUBLISH
UID:97da2c36-d7fc-4480-a717-4f49e0c68e0a
X-WR-CALDESC:This group will offer a safe\, welcoming and private setting f
 or caregivers to share their caregiving experiences\, connect with others 
 going through the same journey and receive insight from an expert. There w
 ill also be group discussions and educational presentations about relevant
  caregiving topics.
X-WR-RELCALID:b80189b26dbcc88d9fca3f6c50ea0c9e
X-WR-TIMEZONE:America/New_York
BEGIN:VTIMEZONE
TZID:America/New_York
BEGIN:STANDARD
TZNAME:EST
DTSTART:20271107T020000
TZOFFSETFROM:-0400
TZOFFSETTO:-0500
RDATE:20281105T020000
RDATE:20291104T020000
END:STANDARD
BEGIN:DAYLIGHT
TZNAME:EDT
DTSTART:20280312T020000
TZOFFSETFROM:-0500
TZOFFSETTO:-0400
RDATE:20290311T020000
END:DAYLIGHT
END:VTIMEZONE
BEGIN:VEVENT
UID:586ff557-2830-43c4-84c8-6066b55719a5
DTSTAMP:20260422T213229Z
DESCRIPTION:This group will offer a safe\, welcoming and private setting fo
 r caregivers to share their caregiving experiences\, connect with others g
 oing through the same journey and receive insight from an expert. There wi
 ll also be group discussions and educational presentations about relevant 
 caregiving topics.
DTSTART;TZID=America/New_York:20280810T150000
DTEND;TZID=America/New_York:20280810T160000
LOCATION:Great Falls Assisted Living\, 1121 Reston Ave\, Herndon\, VA 20170
  US
SUMMARY:Caregiver Support Group
END:VEVENT
END:VCALENDAR
