BEGIN:VCALENDAR
VERSION:2.0
PRODID:-//www.insightmcc.org//NONSGML kigkonsult.se iCalcreator 2.30.10//
CALSCALE:GREGORIAN
METHOD:PUBLISH
UID:d88dfde2-b584-4f8f-b0f6-fdd06bacfff4
X-WR-CALDESC:This group is specifically designed for individuals who have r
 eceived a recent diagnosis of mild cognitive impairment (MCI) or who are i
 n the early stages of memory loss. Get to know others who are in a similar
  situation\, learn more about your diagnosis\, and have the opportunity to
  share personal concerns and successes.\n\nThis group meets at Insight - F
 airfax on the third Wednesday. All support groups are free and open to the
  public. Please register and you'll receive reminders to join us!\n\n&nbsp
 \;\n<strong><a href='https://insightmemory.app.neoncrm.com/np/clients/insi
 ghtmemory/event.jsp?event=1714&' target='_blank' class='button' rel='noref
 errer noopener'>Sign Me Up!</a></strong>
X-WR-RELCALID:94ef4d74795c1fd52c7a8d91dd376066
X-WR-TIMEZONE:America/New_York
BEGIN:VTIMEZONE
TZID:America/New_York
BEGIN:STANDARD
TZNAME:EST
DTSTART:20271107T020000
TZOFFSETFROM:-0400
TZOFFSETTO:-0500
RDATE:20281105T020000
RDATE:20291104T020000
END:STANDARD
BEGIN:DAYLIGHT
TZNAME:EDT
DTSTART:20280312T020000
TZOFFSETFROM:-0500
TZOFFSETTO:-0400
RDATE:20290311T020000
RDATE:20300310T020000
END:DAYLIGHT
END:VTIMEZONE
BEGIN:VEVENT
UID:a7ed4578-b2c3-4cf8-8a48-00f59b02833a
DTSTAMP:20260422T225352Z
DESCRIPTION:This group is specifically designed for individuals who have re
 ceived a recent diagnosis of mild cognitive impairment (MCI) or who are in
  the early stages of memory loss. Get to know others who are in a similar 
 situation\, learn more about your diagnosis\, and have the opportunity to 
 share personal concerns and successes.\n\nThis group meets at Insight - Fa
 irfax on the third Wednesday. All support groups are free and open to the 
 public. Please register and you'll receive reminders to join us!\n\n&nbsp\
 ;\n<strong><a href='https://insightmemory.app.neoncrm.com/np/clients/insig
 htmemory/event.jsp?event=1714&' target='_blank' class='button' rel='norefe
 rrer noopener'>Sign Me Up!</a></strong>
DTSTART;TZID=America/New_York:20280920T123000
DTEND;TZID=America/New_York:20280920T133000
LOCATION:Insight Memory Care Center\, 3955 Pender Drive\, Suite 100\, Fairf
 ax\, VA 22030 US
SUMMARY:MCI Support Group
END:VEVENT
END:VCALENDAR
