BEGIN:VCALENDAR
VERSION:2.0
PRODID:-//www.insightmcc.org//NONSGML kigkonsult.se iCalcreator 2.30.10//
CALSCALE:GREGORIAN
METHOD:PUBLISH
UID:96684a3a-1a5a-4d66-8234-e3646715e43d
X-WR-CALDESC:
X-WR-RELCALID:2922943540620961fb0cedd56a068bf6
X-WR-TIMEZONE:America/New_York
BEGIN:VTIMEZONE
TZID:America/New_York
BEGIN:STANDARD
TZNAME:EST
DTSTART:20281105T020000
TZOFFSETFROM:-0400
TZOFFSETTO:-0500
RDATE:20291104T020000
END:STANDARD
BEGIN:DAYLIGHT
TZNAME:EDT
DTSTART:20280312T020000
TZOFFSETFROM:-0500
TZOFFSETTO:-0400
RDATE:20290311T020000
RDATE:20300310T020000
END:DAYLIGHT
END:VTIMEZONE
BEGIN:VEVENT
UID:8c002b33-48da-4251-b63e-135922be9f71
DTSTAMP:20260423T025746Z
DESCRIPTION:
DTSTART;TZID=America/New_York:20281219T140000
DTEND;TZID=America/New_York:20281219T150000
LOCATION:White Springs Senior Living \, 349 Legion Drive\, Warrenton\, AL 2
 0186 US
SUMMARY:Warrenton Care Partner Support Group
END:VEVENT
END:VCALENDAR
