BEGIN:VCALENDAR
VERSION:2.0
PRODID:-//www.insightmcc.org//NONSGML kigkonsult.se iCalcreator 2.30.10//
CALSCALE:GREGORIAN
METHOD:PUBLISH
UID:7be19070-ca05-4db8-bec0-8808fc265d3e
X-WR-CALDESC:This group is specifically designed for individuals who have r
 eceived a recent diagnosis of mild cognitive impairment (MCI) or who are i
 n the early stages of memory loss. Get to know others who are in a similar
  situation\, learn more about your diagnosis\, and have the opportunity to
  share personal concerns and successes.\n\nThis group meets at Insight - F
 airfax on the third Wednesday. All support groups are free and open to the
  public. Please register and you'll receive reminders to join us!\n\n&nbsp
 \;\n<strong><a href='https://insightmemory.app.neoncrm.com/np/clients/insi
 ghtmemory/event.jsp?event=1714&' target='_blank' class='button' rel='noref
 errer noopener'>Sign Me Up!</a></strong>
X-WR-RELCALID:8583a776553e572d449c10a4af184adc
X-WR-TIMEZONE:America/New_York
BEGIN:VTIMEZONE
TZID:America/New_York
BEGIN:STANDARD
TZNAME:EST
DTSTART:20291104T020000
TZOFFSETFROM:-0400
TZOFFSETTO:-0500
RDATE:20301103T020000
END:STANDARD
BEGIN:DAYLIGHT
TZNAME:EDT
DTSTART:20300310T020000
TZOFFSETFROM:-0500
TZOFFSETTO:-0400
RDATE:20310309T020000
END:DAYLIGHT
END:VTIMEZONE
BEGIN:VEVENT
UID:043bb071-2d29-4d1e-9425-4ef3ac14db0c
DTSTAMP:20260424T001258Z
DESCRIPTION:This group is specifically designed for individuals who have re
 ceived a recent diagnosis of mild cognitive impairment (MCI) or who are in
  the early stages of memory loss. Get to know others who are in a similar 
 situation\, learn more about your diagnosis\, and have the opportunity to 
 share personal concerns and successes.\n\nThis group meets at Insight - Fa
 irfax on the third Wednesday. All support groups are free and open to the 
 public. Please register and you'll receive reminders to join us!\n\n&nbsp\
 ;\n<strong><a href='https://insightmemory.app.neoncrm.com/np/clients/insig
 htmemory/event.jsp?event=1714&' target='_blank' class='button' rel='norefe
 rrer noopener'>Sign Me Up!</a></strong>
DTSTART;TZID=America/New_York:20300417T123000
DTEND;TZID=America/New_York:20300417T133000
LOCATION:Insight Memory Care Center\, 3955 Pender Drive\, Suite 100\, Fairf
 ax\, VA 22030 US
SUMMARY:MCI Support Group
END:VEVENT
END:VCALENDAR
