BEGIN:VCALENDAR
VERSION:2.0
PRODID:-//www.insightmcc.org//NONSGML kigkonsult.se iCalcreator 2.30.10//
CALSCALE:GREGORIAN
METHOD:PUBLISH
UID:6c6fe21b-b053-4e0f-b2be-2e279a82269a
X-WR-CALDESC:This group will offer a safe\, welcoming and private setting f
 or caregivers to share their caregiving experiences\, connect with others 
 going through the same journey and receive insight from an expert. There w
 ill also be group discussions and educational presentations about relevant
  caregiving topics.
X-WR-RELCALID:19fd5c4dd7ed752244e9aced3228bf6d
X-WR-TIMEZONE:America/New_York
BEGIN:VTIMEZONE
TZID:America/New_York
BEGIN:STANDARD
TZNAME:EST
DTSTART:20291104T020000
TZOFFSETFROM:-0400
TZOFFSETTO:-0500
RDATE:20301103T020000
RDATE:20311102T020000
END:STANDARD
BEGIN:DAYLIGHT
TZNAME:EDT
DTSTART:20300310T020000
TZOFFSETFROM:-0500
TZOFFSETTO:-0400
RDATE:20310309T020000
END:DAYLIGHT
END:VTIMEZONE
BEGIN:VEVENT
UID:785fe7ca-c0ed-46fa-a52d-a99c12756648
DTSTAMP:20260424T030759Z
DESCRIPTION:This group will offer a safe\, welcoming and private setting fo
 r caregivers to share their caregiving experiences\, connect with others g
 oing through the same journey and receive insight from an expert. There wi
 ll also be group discussions and educational presentations about relevant 
 caregiving topics.
DTSTART;TZID=America/New_York:20300613T150000
DTEND;TZID=America/New_York:20300613T160000
LOCATION:Great Falls Assisted Living\, 1121 Reston Ave\, Herndon\, VA 20170
  US
SUMMARY:Caregiver Support Group
END:VEVENT
END:VCALENDAR
