BEGIN:VCALENDAR
VERSION:2.0
PRODID:-//www.insightmcc.org//NONSGML kigkonsult.se iCalcreator 2.30.10//
CALSCALE:GREGORIAN
METHOD:PUBLISH
UID:5f126746-9056-4145-ba89-7fd75ac0b1e2
X-WR-CALDESC:This group is specifically designed for individuals who have r
 eceived a recent diagnosis of mild cognitive impairment (MCI) or who are i
 n the early stages of memory loss. Get to know others who are in a similar
  situation\, learn more about your diagnosis\, and have the opportunity to
  share personal concerns and successes.\n\nThis group meets at Insight - F
 airfax on the third Wednesday. All support groups are free and open to the
  public. Please register and you'll receive reminders to join us!\n\n&nbsp
 \;\n<strong><a href='https://insightmemory.app.neoncrm.com/np/clients/insi
 ghtmemory/event.jsp?event=1714&' target='_blank' class='button' rel='noref
 errer noopener'>Sign Me Up!</a></strong>
X-WR-RELCALID:f6b1b494e03a3bf6889be7780aff78c8
X-WR-TIMEZONE:America/New_York
BEGIN:VTIMEZONE
TZID:America/New_York
BEGIN:STANDARD
TZNAME:EST
DTSTART:20301103T020000
TZOFFSETFROM:-0400
TZOFFSETTO:-0500
RDATE:20311102T020000
END:STANDARD
BEGIN:DAYLIGHT
TZNAME:EDT
DTSTART:20300310T020000
TZOFFSETFROM:-0500
TZOFFSETTO:-0400
RDATE:20310309T020000
RDATE:20320314T020000
END:DAYLIGHT
END:VTIMEZONE
BEGIN:VEVENT
UID:ab9ef14c-a111-4cac-99ee-c3ae8b60d6fa
DTSTAMP:20260424T125027Z
DESCRIPTION:This group is specifically designed for individuals who have re
 ceived a recent diagnosis of mild cognitive impairment (MCI) or who are in
  the early stages of memory loss. Get to know others who are in a similar 
 situation\, learn more about your diagnosis\, and have the opportunity to 
 share personal concerns and successes.\n\nThis group meets at Insight - Fa
 irfax on the third Wednesday. All support groups are free and open to the 
 public. Please register and you'll receive reminders to join us!\n\n&nbsp\
 ;\n<strong><a href='https://insightmemory.app.neoncrm.com/np/clients/insig
 htmemory/event.jsp?event=1714&' target='_blank' class='button' rel='norefe
 rrer noopener'>Sign Me Up!</a></strong>
DTSTART;TZID=America/New_York:20310115T123000
DTEND;TZID=America/New_York:20310115T133000
LOCATION:Insight Memory Care Center\, 3955 Pender Drive\, Suite 100\, Fairf
 ax\, VA 22030 US
SUMMARY:MCI Support Group
END:VEVENT
END:VCALENDAR
