BEGIN:VCALENDAR
VERSION:2.0
PRODID:-//www.insightmcc.org//NONSGML kigkonsult.se iCalcreator 2.30.10//
CALSCALE:GREGORIAN
METHOD:PUBLISH
UID:92a5b281-862b-4e90-8fe0-df1dcc7254eb
X-WR-CALDESC:
X-WR-RELCALID:63787ef27c2b40d4f659cc59df30701d
X-WR-TIMEZONE:America/New_York
BEGIN:VTIMEZONE
TZID:America/New_York
BEGIN:STANDARD
TZNAME:EST
DTSTART:20301103T020000
TZOFFSETFROM:-0400
TZOFFSETTO:-0500
RDATE:20311102T020000
END:STANDARD
BEGIN:DAYLIGHT
TZNAME:EDT
DTSTART:20300310T020000
TZOFFSETFROM:-0500
TZOFFSETTO:-0400
RDATE:20310309T020000
RDATE:20320314T020000
END:DAYLIGHT
END:VTIMEZONE
BEGIN:VEVENT
UID:b23c3913-5d72-42cf-a7a0-049654756fb1
DTSTAMP:20260424T125408Z
DESCRIPTION:
DTSTART;TZID=America/New_York:20310121T140000
DTEND;TZID=America/New_York:20310121T150000
LOCATION:White Springs Senior Living \, 349 Legion Drive\, Warrenton\, AL 2
 0186 US
SUMMARY:Warrenton Care Partner Support Group
END:VEVENT
END:VCALENDAR
