BEGIN:VCALENDAR
VERSION:2.0
PRODID:-//www.insightmcc.org//NONSGML kigkonsult.se iCalcreator 2.30.10//
CALSCALE:GREGORIAN
METHOD:PUBLISH
UID:a6f5ecc0-20b8-44b5-8704-f0b5ca9c7227
X-WR-CALDESC:Caregiving at a Glance: Practical Wisdom for Dementia Care Par
 tners\n\nIn this one-hour class\, family care partners will receive a copy
  of Caregiving at a Glance—a collection of helpful hints and “aha” moments
  gathered from families at Insight Memory Care Center. While every dementi
 a journey is unique\, these practical techniques can empower you as a care
  partner\, build confidence\, and help ease the burden as you walk alongsi
 de your loved one.\n\n&nbsp\;\n<strong><a href='https://insightmemory.app.
 neoncrm.com/nx/portal/neonevents/events?path=%2Fportal%2Fevents%2F40020' c
 lass='button'>Sign Me Up!</a></strong>
X-WR-RELCALID:21fd78247fe775d538deb027b05e3d01
X-WR-TIMEZONE:America/New_York
BEGIN:VTIMEZONE
TZID:America/New_York
BEGIN:STANDARD
TZNAME:EST
DTSTART:20251102T020000
TZOFFSETFROM:-0400
TZOFFSETTO:-0500
RDATE:20261101T020000
END:STANDARD
BEGIN:DAYLIGHT
TZNAME:EDT
DTSTART:20260308T020000
TZOFFSETFROM:-0500
TZOFFSETTO:-0400
RDATE:20270314T020000
END:DAYLIGHT
END:VTIMEZONE
BEGIN:VEVENT
UID:918d3e20-cc40-4658-b8a8-734ca8ad9ee7
DTSTAMP:20260420T151307Z
DESCRIPTION:Caregiving at a Glance: Practical Wisdom for Dementia Care Part
 ners\n\nIn this one-hour class\, family care partners will receive a copy 
 of Caregiving at a Glance—a collection of helpful hints and “aha” moments 
 gathered from families at Insight Memory Care Center. While every dementia
  journey is unique\, these practical techniques can empower you as a care 
 partner\, build confidence\, and help ease the burden as you walk alongsid
 e your loved one.\n\n&nbsp\;\n<strong><a href='https://insightmemory.app.n
 eoncrm.com/nx/portal/neonevents/events?path=%2Fportal%2Fevents%2F40020' cl
 ass='button'>Sign Me Up!</a></strong>
DTSTART;TZID=America/New_York:20260423T130000
DTEND;TZID=America/New_York:20260423T140000
LOCATION:108 South St. SE\, Ste 212\, The Legacy Elder Law Center\, Leesbur
 g\, VA 20175 US
SUMMARY:Care Giving at a Glance: Practical Wisdom for Dementia Care Partner
 s
END:VEVENT
END:VCALENDAR
