BEGIN:VCALENDAR
VERSION:2.0
PRODID:-//www.insightmcc.org//NONSGML kigkonsult.se iCalcreator 2.30.10//
CALSCALE:GREGORIAN
METHOD:PUBLISH
UID:ca31254d-ccb0-4bec-9835-3d29f06d1733
X-WR-CALDESC:Caregiving at a Glance: Practical Wisdom for Dementia Care Par
 tners\n\nIn this one-hour class\, family care partners will receive a copy
  of Caregiving at a Glance—a collection of helpful hints and “aha” moments
  gathered from families at Insight Memory Care Center. While every dementi
 a journey is unique\, these practical techniques can empower you as a care
  partner\, build confidence\, and help ease the burden as you walk alongsi
 de your loved one.\n\nRegistration can be sent to synergyofleesburg@synerg
 yhomecare.com .
X-WR-RELCALID:52716be5155d290778cdba95182e3886
X-WR-TIMEZONE:America/New_York
BEGIN:VTIMEZONE
TZID:America/New_York
BEGIN:STANDARD
TZNAME:EST
DTSTART:20251102T020000
TZOFFSETFROM:-0400
TZOFFSETTO:-0500
RDATE:20261101T020000
END:STANDARD
BEGIN:DAYLIGHT
TZNAME:EDT
DTSTART:20260308T020000
TZOFFSETFROM:-0500
TZOFFSETTO:-0400
RDATE:20270314T020000
END:DAYLIGHT
END:VTIMEZONE
BEGIN:VEVENT
UID:0e241431-9d35-4086-a8b7-e4584361dccb
DTSTAMP:20260420T151307Z
DESCRIPTION:Caregiving at a Glance: Practical Wisdom for Dementia Care Part
 ners\n\nIn this one-hour class\, family care partners will receive a copy 
 of Caregiving at a Glance—a collection of helpful hints and “aha” moments 
 gathered from families at Insight Memory Care Center. While every dementia
  journey is unique\, these practical techniques can empower you as a care 
 partner\, build confidence\, and help ease the burden as you walk alongsid
 e your loved one.\n\nRegistration can be sent to synergyofleesburg@synergy
 homecare.com .
DTSTART;TZID=America/New_York:20260429T130000
DTEND;TZID=America/New_York:20260429T140000
LOCATION:18 W. Market Street\, Suite 1\,\, Leesburg\, VA 20176 US
SUMMARY:Care Giving at a Glance: Practical Wisdom for Dementia Care Partner
 s
END:VEVENT
END:VCALENDAR
